BEGIN:VCALENDAR
VERSION:2.0
PRODID:-//wp-events-plugin.com//7.2.3.1//EN
TZID:Europe/Copenhagen
X-WR-TIMEZONE:Europe/CopenhagenBEGIN:VCALENDAR
VERSION:2.0
PRODID:-//wp-events-plugin.com//7.2.3.1//EN
TZID:Europe/Copenhagen
X-WR-TIMEZONE:Europe/Copenhagen
BEGIN:VEVENT
UID:2@trkk.dk
DTSTART;TZID=Europe/Copenhagen;VALUE=DATE:20240323
DTEND;TZID=Europe/Copenhagen;VALUE=DATE:20240325
DTSTAMP:20240317T215210Z
URL:https://trkk.dk/events/besoeg-fra-andeby-roklub/
SUMMARY:Besøg fra Andeby Roklub
DESCRIPTION:
CATEGORIES:Gæst
END:VEVENT
BEGIN:VTIMEZONE
TZID:Europe/Copenhagen
X-LIC-LOCATION:Europe/Copenhagen
BEGIN:STANDARD
DTSTART:20231029T020000
TZOFFSETFROM:+0200
TZOFFSETTO:+0100
TZNAME:CET
END:STANDARD
END:VTIMEZONE
END:VCALENDAR