BEGIN:VCALENDAR
VERSION:2.0
PRODID:-//wp-events-plugin.com//7.2.3.1//EN
TZID:Europe/Copenhagen
X-WR-TIMEZONE:Europe/CopenhagenBEGIN:VCALENDAR
VERSION:2.0
PRODID:-//wp-events-plugin.com//7.2.3.1//EN
TZID:Europe/Copenhagen
X-WR-TIMEZONE:Europe/Copenhagen
BEGIN:VEVENT
UID:3@trkk.dk
DTSTART;TZID=Europe/Copenhagen;VALUE=DATE:20240327
DTEND;TZID=Europe/Copenhagen;VALUE=DATE:20240330
DTSTAMP:20240317T215318Z
URL:https://trkk.dk/events/test-2/
SUMMARY:Test
DESCRIPTION:
CATEGORIES:Test
END:VEVENT
BEGIN:VTIMEZONE
TZID:Europe/Copenhagen
X-LIC-LOCATION:Europe/Copenhagen
BEGIN:STANDARD
DTSTART:20231029T020000
TZOFFSETFROM:+0200
TZOFFSETTO:+0100
TZNAME:CET
END:STANDARD
END:VTIMEZONE
END:VCALENDAR